BEGIN:VCALENDAR
VERSION:2.0
PRODID:-//Saalfelden-Leogang.com//NONSGML kigkonsult.se iCalcreator 2.22.1/
 /EN
METHOD:PUBLISH
X-WR-CALNAME;LANGUAGE=en:Saalfelden-Leogang.com
X-WR-CALDESC;LANGUAGE=en:Saalfelden-Leogang.com
X-WR-TIMEZONE;LANGUAGE=en:Europe/Berlin
BEGIN:VEVENT
UID:20260421T135414CEST-5352Jn4jCW@Saalfelden-Leogang.com
DTSTAMP:20260421T115414Z
DESCRIPTION;LANGUAGE=en:Argentina\, Austria\n\n\n\nLeo Genovese - piano \n
 \nCamila Nebbia - saxophone \n\nAlfred Vogel - drums\n\n\n\n'Hope is the l
 ight that illuminates the path to the future.' A quote from Goethe that pe
 rfectly fits this album. Recorded in just one studio day in Buenos Aires\,
  it expands the 'sonic brotherhood' of (New York-based) Argentinian pianis
 t Leo Genovese with drummer (and Bezau Beatz head) Alfred Vogel to include
  the saxophone of (Berlin-based) Argentinian Camila Nebbia. Although freel
 y improvised\, the trio „manages in an astounding manner to excavate prope
 r song structures from their river of unlimited imagination.' 'Eyes to the
  Sun' is more than 'Carpe Diem\,' because\, according to Vogel\, who had t
 o go through cancer-hell shortly after these recordings\, which he has sin
 ce luckily escaped: 'There are no important or unimportant events in life\
 , every second that we are allowed to spend on this planet\, counts.“
DTSTART:20250821T203000Z
DTEND:20250821T213000Z
LOCATION;LANGUAGE=en:Kunsthaus Nexus
SUMMARY;LANGUAGE=en:Eyes to the Sun
END:VEVENT
END:VCALENDAR
